BEGIN:VCALENDAR
VERSION:2.0
PRODID:-//ChurchDev//Events//EN
CALSCALE:GREGORIAN
METHOD:PUBLISH
BEGIN:VEVENT
UID:3933-20260418@www.mtvernonmethodist.com
SUMMARY:Drive-thru Prayer Tent
DTSTART:20260418T170000Z
DTEND:20260418T190000Z
DESCRIPTION:https://www.mtvernonmethodist.com/events/drive-thru-prayer-tent-2/
LOCATION:9931 Archdale Rd\, Trinity\, NC\, 27370
URL:https://www.mtvernonmethodist.com/events/drive-thru-prayer-tent-2/
DTSTAMP:20260419T210430Z
END:VEVENT
END:VCALENDAR
