BEGIN:VCALENDAR
VERSION:2.0
PRODID:-//ChurchDev//Events//EN
CALSCALE:GREGORIAN
METHOD:PUBLISH
BEGIN:VEVENT
UID:3939-20260513@www.mtvernonmethodist.com
SUMMARY:Community Meal
DTSTART:20260513T220000Z
DTEND:20260513T230000Z
DESCRIPTION:@ the Hut\\n\\nhttps://www.mtvernonmethodist.com/events/community-meal-2/
LOCATION:9429 Archdale Road\, Trinity
URL:https://www.mtvernonmethodist.com/events/community-meal-2/
DTSTAMP:20260419T224636Z
END:VEVENT
END:VCALENDAR
