BEGIN:VCALENDAR
VERSION:2.0
PRODID:-//ChurchDev//Events//EN
CALSCALE:GREGORIAN
METHOD:PUBLISH
BEGIN:VEVENT
UID:4014-20260421@www.mtvernonmethodist.com
SUMMARY:AA
DTSTART:20260422T000000Z
DTEND:20260422T010000Z
DESCRIPTION:@ the Hut\\n\\nhttps://www.mtvernonmethodist.com/events/aa/
LOCATION:9429 Archdale Road\, Trinity
URL:https://www.mtvernonmethodist.com/events/aa/
DTSTAMP:20260419T210310Z
END:VEVENT
END:VCALENDAR
