BEGIN:VCALENDAR
VERSION:2.0
PRODID:-//ChurchDev//Events//EN
CALSCALE:GREGORIAN
METHOD:PUBLISH
BEGIN:VEVENT
UID:4015-20260422@www.mtvernonmethodist.com
SUMMARY:Choir Practice
DTSTART:20260422T230000Z
DTEND:20260423T000000Z
DESCRIPTION:https://www.mtvernonmethodist.com/events/choir-practice/
LOCATION:9931 Archdale Rd\, Trinity\, NC\, 27370
URL:https://www.mtvernonmethodist.com/events/choir-practice/
DTSTAMP:20260419T210433Z
END:VEVENT
END:VCALENDAR
