BEGIN:VCALENDAR
VERSION:2.0
PRODID:-//ChurchDev//Events//EN
CALSCALE:GREGORIAN
METHOD:PUBLISH
BEGIN:VEVENT
UID:4016-20260420@www.mtvernonmethodist.com
SUMMARY:Stitchers
DTSTART:20260420T140000Z
DTEND:20260420T190000Z
DESCRIPTION:@ the Hut\\n\\nhttps://www.mtvernonmethodist.com/events/stitchers/
LOCATION:9429 Archdale Road\, Trinity
URL:https://www.mtvernonmethodist.com/events/stitchers/
DTSTAMP:20260419T210431Z
END:VEVENT
END:VCALENDAR
