BEGIN:VCALENDAR
VERSION:2.0
PRODID:-//ChurchDev//Events//EN
CALSCALE:GREGORIAN
METHOD:PUBLISH
BEGIN:VEVENT
UID:4021-20260512@www.mtvernonmethodist.com
SUMMARY:Charlie&#8217\;s Angels
DTSTART:20260512T153000Z
DTEND:20260512T170000Z
DESCRIPTION:@ the Hut\\n\\nhttps://www.mtvernonmethodist.com/events/charlies-angels/
LOCATION:9931 Archdale Rd\, Trinity\, NC\, 27370
URL:https://www.mtvernonmethodist.com/events/charlies-angels/
DTSTAMP:20260419T224507Z
END:VEVENT
END:VCALENDAR
