BEGIN:VCALENDAR
VERSION:2.0
PRODID:-//ChurchDev//Events//EN
CALSCALE:GREGORIAN
METHOD:PUBLISH
BEGIN:VEVENT
UID:4022-20260416@www.mtvernonmethodist.com
SUMMARY:Bible Study
DTSTART:20260416T230000Z
DTEND:20260417T000000Z
DESCRIPTION:Willa Carter classroom\\n\\nhttps://www.mtvernonmethodist.com/events/bible-study/
LOCATION:9931 Archdale Rd\, Trinity\, NC\, 27370
URL:https://www.mtvernonmethodist.com/events/bible-study/
DTSTAMP:20260419T210321Z
END:VEVENT
END:VCALENDAR
