BEGIN:VCALENDAR
VERSION:2.0
PRODID:-//ChurchDev//Events//EN
CALSCALE:GREGORIAN
METHOD:PUBLISH
BEGIN:VEVENT
UID:4033-20260417@www.mtvernonmethodist.com
SUMMARY:Bible and Biscuits
DTSTART:20260417T113000Z
DTEND:20260417T140000Z
DESCRIPTION:@ the Hut\\n\\nhttps://www.mtvernonmethodist.com/events/bible-and-biscuits/
LOCATION:9429 Archdale Road\, Trinity
URL:https://www.mtvernonmethodist.com/events/bible-and-biscuits/
DTSTAMP:20260419T210311Z
END:VEVENT
END:VCALENDAR
