BEGIN:VCALENDAR
VERSION:2.0
PRODID:-//ChurchDev//Events//EN
CALSCALE:GREGORIAN
METHOD:PUBLISH
BEGIN:VEVENT
UID:4034-20260505@www.mtvernonmethodist.com
SUMMARY:Women&#8217\;s Group #1
DTSTART:20260505T133000Z
DTEND:20260505T143000Z
DESCRIPTION:https://www.mtvernonmethodist.com/events/womens-group-1/
LOCATION:9931 Archdale Rd\, Trinity\, NC\, 27370
URL:https://www.mtvernonmethodist.com/events/womens-group-1/
DTSTAMP:20260419T224630Z
END:VEVENT
END:VCALENDAR
