BEGIN:VCALENDAR
VERSION:2.0
PRODID:-//ChurchDev//Events//EN
CALSCALE:GREGORIAN
METHOD:PUBLISH
BEGIN:VEVENT
UID:4035-20260505@www.mtvernonmethodist.com
SUMMARY:Prayer Group
DTSTART:20260505T123000Z
DTEND:20260505T133000Z
DESCRIPTION:https://www.mtvernonmethodist.com/events/prayer-group/
LOCATION:9931 Archdale Rd\, Trinity\, NC\, 27370
URL:https://www.mtvernonmethodist.com/events/prayer-group/
DTSTAMP:20260419T224623Z
END:VEVENT
END:VCALENDAR
