BEGIN:VCALENDAR
VERSION:2.0
PRODID:-//ChurchDev//Events//EN
CALSCALE:GREGORIAN
METHOD:PUBLISH
BEGIN:VEVENT
UID:4037-20260513@www.mtvernonmethodist.com
SUMMARY:Methodist Men
DTSTART:20260513T230000Z
DTEND:20260514T000000Z
DESCRIPTION:https://www.mtvernonmethodist.com/events/methodist-men/
LOCATION:9931 Archdale Rd\, Trinity\, NC\, 27370
URL:https://www.mtvernonmethodist.com/events/methodist-men/
DTSTAMP:20260419T224517Z
END:VEVENT
END:VCALENDAR
